BEGIN:VCALENDAR
VERSION:2.0
PRODID:-//Chenega MIOS - ECPv6.3.2//NONSGML v1.0//EN
CALSCALE:GREGORIAN
METHOD:PUBLISH
X-WR-CALNAME:Chenega MIOS
X-ORIGINAL-URL:https://chenegamios.com
X-WR-CALDESC:Events for Chenega MIOS
REFRESH-INTERVAL;VALUE=DURATION:PT1H
X-Robots-Tag:noindex
X-PUBLISHED-TTL:PT1H
BEGIN:VTIMEZONE
TZID:UTC
BEGIN:STANDARD
TZOFFSETFROM:+0000
TZOFFSETTO:+0000
TZNAME:UTC
DTSTART:20240101T000000
END:STANDARD
END:VTIMEZONE
BEGIN:VEVENT
DTSTART;TZID=UTC:20240219T080000
DTEND;TZID=UTC:20240222T120000
DTSTAMP:20240219T103202
CREATED:20240103T185031Z
LAST-MODIFIED:20240103T185031Z
UID:15730-1708329600-1708603200@chenegamios.com
SUMMARY:Rocky Mountain Cyberspace Symposium 2024
DESCRIPTION:Chenega MIOS is excited to exhibit at the Rocky Mountain Cyberspace Symposium 2024 in booth 345!
URL:https://chenegamios.com/event/rocky-mountain-cyberspace-symposium-2024/
LOCATION:The Broadmoor Hotel\, 1 Lake Avenue\, Colorado Springs\, CO\, 80906\, United States
CATEGORIES:Industry Event
ATTACH;FMTTYPE=image/png:https://chenegamios.com/wp-content/uploads/2024/01/squid3-b_events-neweventbanner-dac0acc4-07ce-05bb-cc377084e878d23d.png
END:VEVENT
BEGIN:VEVENT
DTSTART;TZID=UTC:20240221T080000
DTEND;TZID=UTC:20240222T170000
DTSTAMP:20240219T103202
CREATED:20240103T185127Z
LAST-MODIFIED:20240103T185127Z
UID:15723-1708502400-1708621200@chenegamios.com
SUMMARY:Integrated C4ISR Systems Symposium
DESCRIPTION:Chronos Operations is proud to exhibit at the Integrated C4ISR Systems Symposium.
URL:https://chenegamios.com/event/integrated-c4isr-systems-symposium/
LOCATION:Mary M. Gates Learning Center\, 701 N Fairfax Street\, Alexandria\, VA\, 22314\, United States
CATEGORIES:Industry Event
ATTACH;FMTTYPE=image/png:https://chenegamios.com/wp-content/uploads/2024/01/Copy-of-Subsidiaries-MyMIOS-Headers-5.png
END:VEVENT
BEGIN:VEVENT
DTSTART;TZID=UTC:20240311T070000
DTEND;TZID=UTC:20240314T120000
DTSTAMP:20240219T103202
CREATED:20230919T152415Z
LAST-MODIFIED:20230919T152454Z
UID:15201-1710140400-1710417600@chenegamios.com
SUMMARY:RES 2024
DESCRIPTION:Representatives from Chenaga Analytic Business Solutions (CABS) and Chronos Operations (CO) will be attending RES 2024.
URL:https://chenegamios.com/event/res-2024/
LOCATION:Caesars Palace\, 3570 S Las Vegas Blvd\, Las Vegas\, NV\, 89109\, United States
CATEGORIES:Industry Event
ATTACH;FMTTYPE=image/png:https://chenegamios.com/wp-content/uploads/2023/09/MIOS-RES-2024-.png
END:VEVENT
BEGIN:VEVENT
DTSTART;TZID=UTC:20240423T080000
DTEND;TZID=UTC:20240425T170000
DTSTAMP:20240219T103202
CREATED:20240102T225847Z
LAST-MODIFIED:20240102T225854Z
UID:15464-1713859200-1714064400@chenegamios.com
SUMMARY:MDEX 2024
DESCRIPTION:Representatives from Chenaga Analytic Business Solutions (CABS) will be attending MDEX 2024.
URL:https://chenegamios.com/event/mdex-2024/
LOCATION:Macomb Community College\, 14500 E Twelve Mile Rd\, Warren\, MI\, 48088\, United States
CATEGORIES:Industry Event
ATTACH;FMTTYPE=image/png:https://chenegamios.com/wp-content/uploads/2024/01/MDEX-2024.png
END:VEVENT
BEGIN:VEVENT
DTSTART;TZID=UTC:20240506T100000
DTEND;TZID=UTC:20240508T140000
DTSTAMP:20240219T103202
CREATED:20240103T190732Z
LAST-MODIFIED:20240103T190732Z
UID:15738-1714989600-1715176800@chenegamios.com
SUMMARY:GEOINT 2024 Symposium
DESCRIPTION:Chenega Agile Real-Time Solutions (CARS) is exhibiting at the USGIF GEOINT 2024 Symposium. Stop by booth 721 to view their demo!
URL:https://chenegamios.com/event/geoint-2024-symposium/
LOCATION:Gaylord Palms Resort and Conference Center\, 6000 W Osceola Pkwy\, Kissimmee\, FL\, 34746\, United States
CATEGORIES:Industry Event
ATTACH;FMTTYPE=image/jpeg:https://chenegamios.com/wp-content/uploads/2024/01/usgif-2024.jpg
END:VEVENT
END:VCALENDAR